BEGIN:VCALENDAR
VERSION:2.0
CALSCALE:GREGORIAN
METHOD:PUBLISH
X-WR-TIMEZONE:Australia/Sydney
BEGIN:VTIMEZONE
TZID:Australia/Sydney
BEGIN:STANDARD
TZNAME:AEST
END:STANDARD
END:VTIMEZONE
BEGIN:VEVENT
DTSTART;TZID=Australia/Sydney:20190531T091500
DTEND;TZID=Australia/Sydney:20190531T101500
DTSTAMP:20260425T013914
UID:16
SUMMARY:Parents&#039; and Friends of California Gully Primary School Club Meeting
DESCRIPTION:




The next meeting of the Parents&amp;rsquo; and Friends of California Gully Primary School Club will be held Friday,&amp;nbsp;May 31st&amp;nbsp;after assembly&amp;nbsp;in the&amp;nbsp;Conference&amp;nbsp;Room, we look forward to some new&amp;nbsp;families joining us.
&amp;nbsp;
&amp;nbsp;


SEQUENCE:0
STATUS:CONFIRMED
TRANSP:OPAQUE
END:VEVENT
END:VCALENDAR